BEGIN:VCALENDAR
VERSION:2.0
PRODID:-//CERN//INDICO//EN
BEGIN:VEVENT
SUMMARY:Lunch and Learn (12)
DTSTART:20260326T110000Z
DTEND:20260326T120000Z
DTSTAMP:20260421T133100Z
UID:indico-event-1636@events.mil.be
CONTACT:noreply@events.mil.be
DESCRIPTION:Speakers: Mini-Talks Team\n\n\nJoin us for an engaging session
  of Mini-Talks during lunchtime every last Thursday of the month\, where 
 experts and enthusiasts share insights on diverse topics in short presenta
 tions. Each talk lasts 20 to 30 minutes\, Q&A included\, keeping it fast-p
 aced\, informative\, and inspiring. Perfect for networking\, learning\, an
 d sparking new ideas !\nWe are of course looking for contributors to provi
 de presentations. We don't expect sophisticated slideshows or complex comp
 uter graphics\, the aim is to emphasize knowledge\, get people interested 
 and asking questions. If you are interested in contributing\, please submi
 t your topic and an abstract of 1-2 sentences (20-50 words) to the point o
 f contact.\n\nhttps://events.mil.be/event/1636/
LOCATION:B11-00.13 (QRE - KKE)
URL:https://events.mil.be/event/1636/
END:VEVENT
END:VCALENDAR
