BEGIN:VCALENDAR
VERSION:2.0
PRODID:-//CERN//INDICO//EN
BEGIN:VEVENT
SUMMARY:ALTERNATIEVE PhEF ALTERNATIFS DG BudFin 2026
DTSTART:20260430T054500Z
DTEND:20260430T064500Z
DTSTAMP:20260421T135000Z
UID:indico-event-2172@events.mil.be
CONTACT:dgbudfin-sport-dl@mil.be
DESCRIPTION:https://events.mil.be/event/2172/
LOCATION:TRITON
URL:https://events.mil.be/event/2172/
END:VEVENT
END:VCALENDAR
