BEGIN:VCALENDAR
VERSION:2.0
PRODID:-//CERN//INDICO//EN
BEGIN:VEVENT
SUMMARY:PhEF DG BudFin 2026
DTSTART:20260430T070000Z
DTEND:20260430T080000Z
DTSTAMP:20260421T135000Z
UID:indico-event-2173@events.mil.be
CONTACT:dgbudfin-sport-dl@mil.be
DESCRIPTION:https://events.mil.be/event/2173/
LOCATION:sportzaal/salle de sport (QRE - KKE)
URL:https://events.mil.be/event/2173/
END:VEVENT
END:VCALENDAR
