BEGIN:VCALENDAR
VERSION:2.0
PRODID:-//CERN//INDICO//EN
BEGIN:VEVENT
SUMMARY:Eindesessie plechtigheid lichting februari 2026 affectatie eenhede
 n
DTSTART:20260430T080000Z
DTEND:20260430T140000Z
DTSTAMP:20260420T134400Z
UID:indico-event-2193@events.mil.be
DESCRIPTION:\n \nDe Korpscommandant\, Luitenant-kolonel van het vliegweze
 n Bart GRIETEN\, de Korpsadjudant\, de Korpskorporaal en het personeel van
  het Centrum voor Basisopleiding en Scholing Noord hebben de eer om U uit 
 te nodigen voor de eindesessieplechtigheid van 30 april 2026.\n \nProgram
 ma:\n- Vanaf 10:00-10:30: ontvangst genodigden. Locatie ontvangst wordt no
 g meegedeeld ( Gelieve ten laatste om 10:30Hr aanwezig te zijn )\n- 11:00
 Hr: start parade\n- 12:00Hr: aanvang receptie\n- 12:30Hr: aanvang frietmaa
 ltijd (friet en keuze uit 11 snacks à volonté)\n \nGelieve te antwoorde
 n en de betaling te doen op rekening Kas Bijzondere diensten CBOS BE40 979
 3 3745 9163 VOOR 17 april 2026\n\nhttps://events.mil.be/event/2193/
URL:https://events.mil.be/event/2193/
END:VEVENT
END:VCALENDAR
